BEGIN:VCALENDAR
VERSION:2.0
PRODID:-//eventon.com NONSGML v1.0//EN
CALSCALE:GREGORIAN
METHOD:PUBLISH
BEGIN:VEVENT
UID:69e534534f30e
DTSTAMP:20260419T200019Z
DTSTART:20170917
DTEND:20170918
LOCATION:
SUMMARY:EdNET 2017: Education Networking Conference
DESCRIPTION:EdNET 2017: Education Networking Conference\nhttps://mindsharel
 earning.ca/events/ednet-2017-education-networking-conference/
URL:https://mindsharelearning.ca/events/ednet-2017-education-networking-conference/
END:VEVENT
END:VCALENDAR