BEGIN:VCALENDAR
VERSION:2.0
PRODID:-//eventon.com NONSGML v1.0//EN
CALSCALE:GREGORIAN
METHOD:PUBLISH
BEGIN:VEVENT
UID:69e6d113d40d6
DTSTAMP:20260421T012123Z
DTSTART:20180312T010000Z
DTEND:20180316T010000Z
LOCATION:
SUMMARY:March Break
DESCRIPTION:March Break\nhttps://mindsharelearning.ca/events/march-break/
URL:https://mindsharelearning.ca/events/march-break/
END:VEVENT
END:VCALENDAR