BEGIN:VCALENDAR
VERSION:2.0
PRODID:-//eventon.com NONSGML v1.0//EN
CALSCALE:GREGORIAN
METHOD:PUBLISH
BEGIN:VEVENT
UID:69e654fe2ea9b
DTSTAMP:20260420T163158Z
DTSTART:20230925T180000Z
DTEND:20230925T210000Z
LOCATION:
SUMMARY:3rd Annual Fall EdTech Industry Charity Golf tournament
DESCRIPTION:\nhttps://mindsharelearning.ca/events/3rd-annual-fall-edtech-in
 dustry-charity-golf-tournament/
URL:https://mindsharelearning.ca/events/3rd-annual-fall-edtech-industry-charity-golf-tournament/
END:VEVENT
END:VCALENDAR