BEGIN:VCALENDAR
VERSION:2.0
PRODID:-//eventon.com NONSGML v1.0//EN
CALSCALE:GREGORIAN
METHOD:PUBLISH
BEGIN:VEVENT
UID:69e79ce5e296f
DTSTAMP:20260421T155101Z
DTSTART:20160406
DTEND:20160407
LOCATION:
SUMMARY:ERDI Spring 2016
DESCRIPTION:ERDI Spring 2016\nhttps://mindsharelearning.ca/events/erdi-spri
 ng-2016/
URL:https://mindsharelearning.ca/events/erdi-spring-2016/
END:VEVENT
END:VCALENDAR